Workbook
Name D: Defect_Table!$A$4:$B$7
Name Defect_Table: Defect_Table!$F$4:$I$7
Name DefectTable: Defect_Table!$A$4:$B$7
Name Efficiency_Table: Efficiency_Table!$A$1:$B$5

Sheet Raw Data
A1: Date | B1: Shift | C1: Line_ID | D1: Product_Type | E1: Units_Produced | F1: Defects | G1: Downtime_Min | H1: Operator_ID | I1: Machine_Efficiency (%) | J1: Downtime_Efficiency | K1: Defect_Rate | L1: Avg_Line_efficiency
A2: 2025-05-01 | B2: Morning | C2: L1 | D2: C | E2: 302 | F2: 19 | G2: 28 | H2: O04 | I2: 75.5 | J2: =IF(tblProduction[[#This Row],[Downtime_Min]]>Helper_Calculations!$B$4, "High", IF(tblProduction[[#This Row],[Downtime_Min]]<Helper_Calculations!$B$3,"low","Medium")) -> Medium | K2: =VLOOKUP(tblProduction[[#This Row],[Product_Type]],Defect_Table,4,FALSE) -> 0.026075502 | L2: =VLOOKUP(tblProduction[[#This Row],[Line_ID]],Efficiency_Table,2,FALSE) -> 84.103778
A3: 2025-05-01 | B3: Morning | C3: L2 | D3: C | E3: 271 | F3: 6 | G3: 57 | H3: O02 | I3: 74.68 | J3: =IF(tblProduction[[#This Row],[Downtime_Min]]>Helper_Calculations!$B$4, "High", IF(tblProduction[[#This Row],[Downtime_Min]]<Helper_Calculations!$B$3,"low","Medium")) -> High | K3: =VLOOKUP(tblProduction[[#This Row],[Product_Type]],Defect_Table,4,FALSE) -> 0.026075502 | L3: =VLOOKUP(tblProduction[[#This Row],[Line_ID]],Efficiency_Table,2,FALSE) -> 84.346333
A4: 2025-05-01 | B4: Morning | C4: L3 | D4: A | E4: 287 | F4: 3 | G4: 39 | H4: O01 | I4: 91.24 | J4: =IF(tblProduction[[#This Row],[Downtime_Min]]>Helper_Calculations!$B$4, "High", IF(tblProduction[[#This Row],[Downtime_Min]]<Helper_Calculations!$B$3,"low","Medium")) -> Medium | K4: =VLOOKUP(tblProduction[[#This Row],[Product_Type]],Defect_Table,4,FALSE) -> 0.022301426 | L4: =VLOOKUP(tblProduction[[#This Row],[Line_ID]],Efficiency_Table,2,FALSE) -> 83.482
A5: 2025-05-01 | B5: Afternoon | C5: L1 | D5: A | E5: 349 | F5: 1 | G5: 23 | H5: O01 | I5: 94.97 | J5: =IF(tblProduction[[#This Row],[Downtime_Min]]>Helper_Calculations!$B$4, "High", IF(tblProduction[[#This Row],[Downtime_Min]]<Helper_Calculations!$B$3,"low","Medium")) -> Medium | K5: =VLOOKUP(tblProduction[[#This Row],[Product_Type]],Defect_Table,4,FALSE) -> 0.022301426 | L5: =VLOOKUP(tblProduction[[#This Row],[Line_ID]],Efficiency_Table,2,FALSE) -> 84.103778
A6: 2025-05-01 | B6: Afternoon | C6: L2 | D6: B | E6: 493 | F6: 1 | G6: 59 | H6: O08 | I6: 75.5 | J6: =IF(tblProduction[[#This Row],[Downtime_Min]]>Helper_Calculations!$B$4, "High", IF(tblProduction[[#This Row],[Downtime_Min]]<Helper_Calculations!$B$3,"low","Medium")) -> High | K6: =VLOOKUP(tblProduction[[#This Row],[Product_Type]],Defect_Table,4,FALSE) -> 0.02548668 | L6: =VLOOKUP(tblProduction[[#This Row],[Line_ID]],Efficiency_Table,2,FALSE) -> 84.346333
A7: 2025-05-01 | B7: Afternoon | C7: L3 | D7: C | E7: 221 | F7: 11 | G7: 24 | H7: O01 | I7: 78.74 | J7: =IF(tblProduction[[#This Row],[Downtime_Min]]>Helper_Calculations!$B$4, "High", IF(tblProduction[[#This Row],[Downtime_Min]]<Helper_Calculations!$B$3,"low","Medium")) -> Medium | K7: =VLOOKUP(tblProduction[[#This Row],[Product_Type]],Defect_Table,4,FALSE) -> 0.026075502 | L7: =VLOOKUP(tblProduction[[#This Row],[Line_ID]],Efficiency_Table,2,FALSE) -> 83.482
A8: 2025-05-01 | B8: Night | C8: L1 | D8: C | E8: 258 | F8: 9 | G8: 27 | H8: O03 | I8: 99.21 | J8: =IF(tblProduction[[#This Row],[Downtime_Min]]>Helper_Calculations!$B$4, "High", IF(tblProduction[[#This Row],[Downtime_Min]]<Helper_Calculations!$B$3,"low","Medium")) -> Medium | K8: =VLOOKUP(tblProduction[[#This Row],[Product_Type]],Defect_Table,4,FALSE) -> 0.026075502 | L8: =VLOOKUP(tblProduction[[#This Row],[Line_ID]],Efficiency_Table,2,FALSE) -> 84.103778
A9: 2025-05-01 | B9: Night | C9: L2 | D9: A | E9: 470 | F9: 14 | G9: 50 | H9: O10 | I9: 81.47 | J9: =IF(tblProduction[[#This Row],[Downtime_Min]]>Helper_Calculations!$B$4, "High", IF(tblProduction[[#This Row],[Downtime_Min]]<Helper_Calculations!$B$3,"low","Medium")) -> High | K9: =VLOOKUP(tblProduction[[#This Row],[Product_Type]],Defect_Table,4,FALSE) -> 0.022301426 | L9: =VLOOKUP(tblProduction[[#This Row],[Line_ID]],Efficiency_Table,2,FALSE) -> 84.346333
A10: 2025-05-01 | B10: Night | C10: L3 | D10: B | E10: 443 | F10: 2 | G10: 36 | H10: O02 | I10: 88.23 | J10: =IF(tblProduction[[#This Row],[Downtime_Min]]>Helper_Calculations!$B$4, "High", IF(tblProduction[[#This Row],[Downtime_Min]]<Helper_Calculations!$B$3,"low","Medium")) -> Medium | K10: =VLOOKUP(tblProduction[[#This Row],[Product_Type]],Defect_Table,4,FALSE) -> 0.02548668 | L10: =VLOOKUP(tblProduction[[#This Row],[Line_ID]],Efficiency_Table,2,FALSE) -> 83.482
A11: 2025-05-02 | B11: Morning | C11: L1 | D11: C | E11: 220 | F11: 8 | G11: 38 | H11: O07 | I11: 70.4 | J11: =IF(tblProduction[[#This Row],[Downtime_Min]]>Helper_Calculations!$B$4, "High", IF(tblProduction[[#This Row],[Downtime_Min]]<Helper_Calculations!$B$3,"low","Medium")) -> Medium | K11: =VLOOKUP(tblProduction[[#This Row],[Product_Type]],Defect_Table,4,FALSE) -> 0.026075502 | L11: =VLOOKUP(tblProduction[[#This Row],[Line_ID]],Efficiency_Table,2,FALSE) -> 84.103778
A12: 2025-05-02 | B12: Morning | C12: L2 | D12: B | E12: 288 | F12: 13 | G12: 49 | H12: O01 | I12: 81.56 | J12: =IF(tblProduction[[#This Row],[Downtime_Min]]>Helper_Calculations!$B$4, "High", IF(tblProduction[[#This Row],[Downtime_Min]]<Helper_Calculations!$B$3,"low","Medium")) -> High | K12: =VLOOKUP(tblProduction[[#This Row],[Product_Type]],Defect_Table,4,FALSE) -> 0.02548668 | L12: =VLOOKUP(tblProduction[[#This Row],[Line_ID]],Efficiency_Table,2,FALSE) -> 84.346333
A13: 2025-05-02 | B13: Morning | C13: L3 | D13: B | E13: 252 | F13: 1 | G13: 19 | H13: O04 | I13: 77.23 | J13: =IF(tblProduction[[#This Row],[Downtime_Min]]>Helper_Calculations!$B$4, "High", IF(tblProduction[[#This Row],[Downtime_Min]]<Helper_Calculations!$B$3,"low","Medium")) -> Medium | K13: =VLOOKUP(tblProduction[[#This Row],[Product_Type]],Defect_Table,4,FALSE) -> 0.02548668 | L13: =VLOOKUP(tblProduction[[#This Row],[Line_ID]],Efficiency_Table,2,FALSE) -> 83.482
... A271: 2025-05-30 | B271: Night | C271: L3 | D271: C | E271: 343 | F271: 7 | G271: 18 | H271: O06 | I271: 71.97 | J271: =IF(tblProduction[[#This Row],[Downtime_Min]]>Helper_Calculations!$B$4, "High", IF(tblProduction[[#This Row],[Downtime_Min]]<Helper_Calculations!$B$3,"low","Medium")) -> Medium | K271: =VLOOKUP(tblProduction[[#This Row],[Product_Type]],Defect_Table,4,FALSE) -> 0.026075502 | L271: =VLOOKUP(tblProduction[[#This Row],[Line_ID]],Efficiency_Table,2,FALSE) -> 83.482

Sheet Pareto_Analysis
A1: Downtime and Defect Pareto Analysis
A3: Operator_ID | B3: Sum of Defects | D3: Operator ID | E3: Total Defects | F3: % of Total | G3: Cumulative %
A4: O01 | B4: 324 | D4: O10 | E4: 338 | F4: 0.1454389 | G4: =F4 -> 0.1454389
A5: O02 | B5: 220 | D5: O01 | E5: 324 | F5: 0.1394148 | G5: =G4+F5 -> 0.2848537
A6: O03 | B6: 224 | D6: O09 | E6: 272 | F6: 0.11703959 | G6: =G5+F6 -> 0.40189329
A7: O04 | B7: 205 | D7: O05 | E7: 241 | F7: 0.10370052 | G7: =G6+F7 -> 0.5055938
A8: O05 | B8: 241 | D8: O03 | E8: 224 | F8: 0.096385542 | G8: =G7+F8 -> 0.60197935
A9: O06 | B9: 165 | D9: O02 | E9: 220 | F9: 0.094664372 | G9: =G8+F9 -> 0.69664372
A10: O07 | B10: 216 | D10: O07 | E10: 216 | F10: 0.092943201 | G10: =G9+F10 -> 0.78958692
A11: O08 | B11: 119 | D11: O04 | E11: 205 | F11: 0.088209983 | G11: =G10+F11 -> 0.8777969
A12: O09 | B12: 272 | D12: O06 | E12: 165 | F12: 0.070998279 | G12: =G11+F12 -> 0.94879518
A13: O10 | B13: 338 | D13: O08 | E13: 119 | F13: 0.051204819 | G13: =G12+F13 -> 1
A14: Grand Total | B14: 2324 | D14: Total | E14: 2324
A31: A small group of operators contributed a large share of the total defects, which makes them a priority area for improvement
A34: Date | B34: Sum of Downtime_Min | D34: Date | E34: Total Downtime | F34: % of Total | G34: Cumulative %
A35: 2025-05-01 | B35: 343 | D35: 2025-05-18 | E35: 357 | F35: =E35/$E$65 -> 0.04293962 | G35: =F35 -> 0.04293962
A36: 2025-05-02 | B36: 197 | D36: 2025-05-17 | E36: 356 | F36: =E36/$E$65 -> 0.042819341 | G36: =G35+F36 -> 0.085758961
A37: 2025-05-03 | B37: 243 | D37: 2025-05-29 | E37: 350 | F37: =E37/$E$65 -> 0.042097667 | G37: =G36+F37 -> 0.12785663
A38: 2025-05-04 | B38: 273 | D38: 2025-05-01 | E38: 343 | F38: =E38/$E$65 -> 0.041255713 | G38: =G37+F38 -> 0.16911234
A39: 2025-05-05 | B39: 316 | D39: 2025-05-30 | E39: 334 | F39: =E39/$E$65 -> 0.040173202 | G39: =G38+F39 -> 0.20928554
A40: 2025-05-06 | B40: 268 | D40: 2025-05-05 | E40: 316 | F40: =E40/$E$65 -> 0.038008179 | G40: =G39+F40 -> 0.24729372
A41: 2025-05-07 | B41: 219 | D41: 2025-05-11 | E41: 312 | F41: =E41/$E$65 -> 0.037527063 | G41: =G40+F41 -> 0.28482078
A42: 2025-05-08 | B42: 301 | D42: 2025-05-10 | E42: 309 | F42: =E42/$E$65 -> 0.037166226 | G42: =G41+F42 -> 0.32198701
A43: 2025-05-09 | B43: 269 | D43: 2025-05-15 | E43: 302 | F43: =E43/$E$65 -> 0.036324272 | G43: =G42+F43 -> 0.35831128
A44: 2025-05-10 | B44: 309 | D44: 2025-05-08 | E44: 301 | F44: =E44/$E$65 -> 0.036203993 | G44: =G43+F44 -> 0.39451528
A45: 2025-05-11 | B45: 312 | D45: 2025-05-27 | E45: 293 | F45: =E45/$E$65 -> 0.035241761 | G45: =G44+F45 -> 0.42975704
A46: 2025-05-12 | B46: 282 | D46: 2025-05-12 | E46: 282 | F46: =E46/$E$65 -> 0.033918691 | G46: =G45+F46 -> 0.46367573
A47: 2025-05-13 | B47: 225 | D47: 2025-05-20 | E47: 282 | F47: =E47/$E$65 -> 0.033918691 | G47: =G46+F47 -> 0.49759442
... A64: 2025-05-30 | B64: 334 | D64: 2025-05-02 | E64: 197 | F64: =E64/$E$65 -> 0.023694972 | G64: =G63+F64 -> 1
A65: Grand Total | B65: 8314 | D65: Total | E65: =SUM(E35:E64) -> 8314
A82: The Pareto view highlights the small number of dates that contributed the most to total downtime during the study period.

Sheet OEE_Analysis
A1: Overall Equipment Effectiveness (OEE) Analysis
A3: Estimated OEE by Production Line
A4: Line ID | B4: Planned Time (min) | C4: Downtime (min) | D4: Run Time (min) | E4: Units Produced | F4: Defects | G4: Good Units | H4: Availability | I4: Performance | J4: Quality | K4: OEE
A5: L1 | B5: =COUNTIF(tblProduction[Line_ID],A5)*480 -> 43200 | C5: =SUMIFS(tblProduction[Downtime_Min],tblProduction[Line_ID],A5) -> 2797 | D5: =B5-C5 -> 40403 | E5: =SUMIFS(tblProduction[Units_Produced],tblProduction[Line_ID],A5) -> 31574 | F5: =SUMIFS(tblProduction[Defects],tblProduction[Line_ID],A5) -> 729 | G5: =E5-F5 -> 30845 | H5: =D5/B5 -> 0.93525463 | I5: =INDEX(Efficiency_Table!$B$2:$B$4,MATCH(A5,Efficiency_Table!$A$2:$A$4,0)) -> 84.103778 | J5: =G5/E5 -> 0.97691138 | K5: =H5*I5*J5 -> 76.842333
A6: L2 | B6: =COUNTIF(tblProduction[Line_ID],A6)*480 -> 43200 | C6: =SUMIFS(tblProduction[Downtime_Min],tblProduction[Line_ID],A6) -> 2750 | D6: =B6-C6 -> 40450 | E6: =SUMIFS(tblProduction[Units_Produced],tblProduction[Line_ID],A6) -> 31358 | F6: =SUMIFS(tblProduction[Defects],tblProduction[Line_ID],A6) -> 794 | G6: =E6-F6 -> 30564 | H6: =D6/B6 -> 0.93634259 | I6: =INDEX(Efficiency_Table!$B$2:$B$4,MATCH(A6,Efficiency_Table!$A$2:$A$4,0)) -> 84.346333 | J6: =G6/E6 -> 0.97467951 | K6: =H6*I6*J6 -> 76.977326
A7: L3 | B7: =COUNTIF(tblProduction[Line_ID],A7)*480 -> 43200 | C7: =SUMIFS(tblProduction[Downtime_Min],tblProduction[Line_ID],A7) -> 2767 | D7: =B7-C7 -> 40433 | E7: =SUMIFS(tblProduction[Units_Produced],tblProduction[Line_ID],A7) -> 31163 | F7: =SUMIFS(tblProduction[Defects],tblProduction[Line_ID],A7) -> 801 | G7: =E7-F7 -> 30362 | H7: =D7/B7 -> 0.93594907 | I7: =INDEX(Efficiency_Table!$B$2:$B$4,MATCH(A7,Efficiency_Table!$A$2:$A$4,0)) -> 83.482 | J7: =G7/E7 -> 0.97429644 | K7: =H7*I7*J7 -> 76.126556
A24: A simplified OEE analysis was added to provide a more complete view of equipment performance. The metric combines availability, performance, and quality, making it more informative than machine efficiency alone.
A25: Line L3 recorded the lowest estimated OEE, suggesting that its overall performance was affected by a combination of downtime, lower operating efficiency, and quality loss.

Sheet Shift_Analysis
A1: Productivity Analysis by Shift
A3: Average Production by Shift
A4: Shift | B4: Average of Units Produced | D4: Shift | E4: Average Units | F4: Std. Dev.
A5: Afternoon | B5: 347.52222 | D5: Afternoon | E5: =GETPIVOTDATA("Average of Units Produced",$A$5,"Shift",A5) -> 347.52222 | F5: {=_xlfn.STDEV.P(_xlfn._xlws.FILTER(tblProduction[Units_Produced], tblProduction[Shift]= "Afternoon"))} -> 90.567007
A6: Morning | B6: 351.35556 | D6: Morning | E6: =GETPIVOTDATA("Average of Units Produced",$A$5,"Shift",A6) -> 351.35556 | F6: {=_xlfn.STDEV.P(_xlfn._xlws.FILTER(tblProduction[Units_Produced],tblProduction[Shift]="Morning"))} -> 82.182765
A7: Night | B7: 346.62222 | D7: Night | E7: =GETPIVOTDATA("Average of Units Produced",$A$5,"Shift",A7) -> 346.62222 | F7: {=_xlfn.STDEV.P(_xlfn._xlws.FILTER(tblProduction[Units_Produced],tblProduction[Shift]="Night"))} -> 91.923347
A8: Grand Total | B8: 348.5
A24: The Night shift had the lowest average production among the three shifts. Although the gap is relatively small, the result may point to less stable operating conditions during that shift. In contrast, the Morning shift showed both the highest average output and the lowest variation, suggesting more consistent production performance.

Sheet Defect_Analysis
A1: Defect Analysis
A3: Product Type | B3: Total Defects | C3: Total Units Produced | E3: Product Type | F3: Total Defects | G3: Total Units | H3: Defect Rate
A4: A | B4: 657 | C4: 29460 | E4: Product A | F4: =GETPIVOTDATA("Total Defects",$A$4,"Product_Type",A4) -> 657 | G4: =GETPIVOTDATA("Total Units Produced",$A$4,"Product_Type",A4) -> 29460 | H4: =F4/G4 -> 0.022301426
A5: B | B5: 796 | C5: 31232 | E5: Product B | F5: =GETPIVOTDATA("Total Defects",$A$4,"Product_Type",A5) -> 796 | G5: =GETPIVOTDATA("Total Units Produced",$A$4,"Product_Type",A5) -> 31232 | H5: =F5/G5 -> 0.02548668
A6: C | B6: 871 | C6: 33403 | E6: Product C | F6: =GETPIVOTDATA("Total Defects",$A$4,"Product_Type",A6) -> 871 | G6: =GETPIVOTDATA("Total Units Produced",$A$4,"Product_Type",A6) -> 33403 | H6: =F6/G6 -> 0.026075502
A7: Grand Total | B7: 2324 | C7: 94095
A9: The quality analysis showed that Product C had the highest defect rate among the three product types, which suggests that its production process may need closer review.
A11: Operator_ID | B11: Total Defects
A12: O10 | B12: 338
A13: O01 | B13: 324
A14: O09 | B14: 272
A15: O05 | B15: 241
A16: O03 | B16: 224
A17: O02 | B17: 220
A18: O07 | B18: 216
A19: O04 | B19: 205
A20: O06 | B20: 165
A21: O08 | B21: 119
A22: Grand Total | B22: 2324
A24: The operator-level analysis showed that a small number of operators were responsible for a relatively high number of defects, which may point to differences in training, workload, or task assignment.

Sheet Downtime_Analysis
A1: Downtime Analysis
A3: Line_ID | B3: Sum of Downtime_Min | D3: Line ID | E3: Total Downtime (min)
A4: L1 | B4: 2797 | D4: L1 | E4: =GETPIVOTDATA("Sum of Downtime_Min",$A$4,"Line_ID",A4) -> 2797
A5: L2 | B5: 2750 | D5: L2 | E5: =GETPIVOTDATA("Sum of Downtime_Min",$A$4,"Line_ID",A5) -> 2750
A6: L3 | B6: 2767 | D6: L3 | E6: =GETPIVOTDATA("Sum of Downtime_Min",$A$4,"Line_ID",A6) -> 2767
A7: Grand Total | B7: 8314
A9: Date | B9: Total Downtime (min)
A10: 2025-05-01 | B10: 343
A11: 2025-05-02 | B11: 197
A12: 2025-05-03 | B12: 243
A13: 2025-05-04 | B13: 273
A14: 2025-05-05 | B14: 316
A15: 2025-05-06 | B15: 268
A16: 2025-05-07 | B16: 219
A17: 2025-05-08 | B17: 301
A18: 2025-05-09 | B18: 269
A19: 2025-05-10 | B19: 309
A20: 2025-05-11 | B20: 312
A21: 2025-05-12 | B21: 282
... A36: 2025-05-27 | B36: 293
A37: 2025-05-28 | B37: 276 | C37: Line L1 recorded the highest total downtime, which may point to more frequent interruptions or process instability.
A38: 2025-05-29 | B38: 350
A39: 2025-05-30 | B39: 334
A40: Grand Total | B40: 8314

Sheet Machine_Efficiency_Analysis
A1: Average Machine Efficiency by Line
A3: Line_ID | B3: Average of Machine_Efficiency (%)
A4: L1 | B4: 84.103778
A5: L2 | B5: 84.346333
A6: L3 | B6: 83.482
A7: Grand Total | B7: 83.97737
A9: The efficiency analysis showed that Line L3 had the lowest average machine efficiency among the three production lines.

Sheet Defect_Table
A1: Product Defect Rate Reference Table
F3: Defect Rate by Product Type
A4: Product_Type | B4: Sum of Defects | C4: Sum of Units_Produced | F4: Product Type | G4: Total Defects | H4: Total units Produced | I4: Defect_Rate
A5: A | B5: 657 | C5: 29460 | F5: A | G5: =GETPIVOTDATA("Sum of Defects",$A$5,"Product_type",A5) -> 657 | H5: =GETPIVOTDATA("Sum of Units_Produced",$A$5,"Product_Type",A5) -> 29460 | I5: =G5/H5 -> 0.022301426
A6: B | B6: 796 | C6: 31232 | F6: B | G6: =GETPIVOTDATA("Sum of Defects",$A$5,"Product_type",A6) -> 796 | H6: =GETPIVOTDATA("Sum of Units_Produced",$A$5,"Product_Type",A6) -> 31232 | I6: =G6/H6 -> 0.02548668
A7: C | B7: 871 | C7: 33403 | F7: C | G7: =GETPIVOTDATA("Sum of Defects",$A$5,"Product_type",A7) -> 871 | H7: =GETPIVOTDATA("Sum of Units_Produced",$A$5,"Product_Type",A7) -> 33403 | I7: =G7/H7 -> 0.026075502
A8: Grand Total | B8: 2324 | C8: 94095

Sheet Efficiency_Table
A1: Line_ID | B1: Average of Machine_Efficiency (%)
A2: L1 | B2: 84.103778
A3: L2 | B3: 84.346333
A4: L3 | B4: 83.482
A5: Grand Total | B5: 83.97737

Sheet Helper_Calculations
A1: Avg Downtime | B1: =AVERAGE(tblProduction[Downtime_Min]) -> 30.792593
A2: Std. Dev. | B2: =_xlfn.STDEV.P(tblProduction[Downtime_Min]) -> 16.847726
A3: p25 | B3: =_xlfn.PERCENTILE.INC(tblProduction[Downtime_Min], 0.25) -> 18
A4: p75 | B4: =_xlfn.PERCENTILE.INC(tblProduction[Downtime_Min], 0.75) -> 47

Sheet Solver_Shift
A1: Shift-Based Production Optimization
A3: Shift | B3: Sum of Units_Produced | C3: Sum of Downtime_Min | D3: Average of Machine_Efficiency (%)
A4: Afternoon | B4: 31277 | C4: 2934 | D4: 85.266444
A5: Morning | B5: 31622 | C5: 2714 | D5: 83.156778
A6: Night | B6: 31196 | C6: 2666 | D6: 83.508889
A7: Grand Total | B7: 94095 | C7: 8314 | D7: 83.97737
A9: Shift | B9: Total Historical Units | C9: Total Historical Downtime | D9: Avg Efficiency | E9: Historical Downtime per Unit
A10: Morning | B10: =GETPIVOTDATA("Sum of Units_Produced",$A$4,"Shift","Morning") -> 31622 | C10: =GETPIVOTDATA("Sum of Downtime_Min",$A$4,"Shift","Morning") -> 2714 | D10: =GETPIVOTDATA("Average of Machine_Efficiency (%)",$A$4,"Shift","Morning") -> 83.156778 | E10: =C10/B10 -> 0.085826323
A11: Afternoon | B11: =GETPIVOTDATA("Sum of Units_Produced",$A$4,"Shift","Afternoon") -> 31277 | C11: =GETPIVOTDATA("Sum of Downtime_Min",$A$4,"Shift","Afternoon") -> 2934 | D11: =GETPIVOTDATA("Average of Machine_Efficiency (%)",$A$4,"Shift","Afternoon") -> 85.266444 | E11: =C11/B11 -> 0.093806951
A12: Night | B12: =GETPIVOTDATA("Sum of Units_Produced",$A$4,"Shift","Night") -> 31196 | C12: =GETPIVOTDATA("Sum of Downtime_Min",$A$4,"Shift","Night") -> 2666 | D12: =GETPIVOTDATA("Average of Machine_Efficiency (%)",$A$4,"Shift","Night") -> 83.508889 | E12: =C12/B12 -> 0.085459674
A15: Solver
A16: Shift | B16: Proposed Units | C16: Avg Efficiency | D16: Downtime per Unit | E16: Estimated_Downtime
A17: Morning | B17: 4660.5748 | C17: =D10 -> 83.156778 | D17: =E10 -> 0.085826323 | E17: =B17*D17 -> 400
A18: Afternoon | B18: 4264.0763 | C18: =D11 -> 85.266444 | D18: =E11 -> 0.093806951 | E18: =B18*D18 -> 400
A19: Night | B19: 4680.5701 | C19: =D12 -> 83.508889 | D19: =E12 -> 0.085459674 | E19: =B19*D19 -> 400
A20: Total | B20: =SUM(B17:B19) -> 13605.221 | E20: =SUM(E17:E19) -> 1200
A22: The Solver model was used to maximize total production across shifts while keeping estimated downtime within the 400-minute limit for each shift. The results showed that the Night and Morning shifts could support slightly higher production levels than the Afternoon shift under the model assumptions.

Sheet Solver_Operator
A1: Sum of Defects | B1: Column Labels | G1: Operator Assignment Optimization
A2: Operator_ID | B2: L1 | C2: L2 | D2: L3 | E2: Grand Total | G2: Operator_ID | H2: X_L1 | I2: X_L2 | J2: X_L3 | K2: Total Defects | L2: Assignment Check
A3: O01 | B3: 63 | C3: 176 | D3: 85 | E3: 324 | G3: O01 | H3: 1 | I3: 0 | J3: 0 | K3: =GETPIVOTDATA("Defects",$A$1,"Line_ID","L1","Operator_ID",A3)*H3+GETPIVOTDATA("Defects",$A$1,"Line_ID","L2","Operator_ID",A3)*I3+GETPIVOTDATA("Defects",$A$1,"Line_ID","L3","Operator_ID",A3)*J3 -> 63 | L3: =SUM(H3:J3) -> 1
A4: O02 | B4: 60 | C4: 43 | D4: 117 | E4: 220 | G4: O02 | H4: 0 | I4: 1 | J4: 0 | K4: =GETPIVOTDATA("Defects",$A$1,"Line_ID","L1","Operator_ID",A4)*H4+GETPIVOTDATA("Defects",$A$1,"Line_ID","L2","Operator_ID",A4)*I4+GETPIVOTDATA("Defects",$A$1,"Line_ID","L3","Operator_ID",A4)*J4 -> 43 | L4: =SUM(H4:J4) -> 1
A5: O03 | B5: 59 | C5: 78 | D5: 87 | E5: 224 | G5: O03 | H5: 1 | I5: 0 | J5: 0 | K5: =GETPIVOTDATA("Defects",$A$1,"Line_ID","L1","Operator_ID",A5)*H5+GETPIVOTDATA("Defects",$A$1,"Line_ID","L2","Operator_ID",A5)*I5+GETPIVOTDATA("Defects",$A$1,"Line_ID","L3","Operator_ID",A5)*J5 -> 59 | L5: =SUM(H5:J5) -> 1
A6: O04 | B6: 98 | C6: 55 | D6: 52 | E6: 205 | G6: O04 | H6: 0 | I6: 0 | J6: 1 | K6: =GETPIVOTDATA("Defects",$A$1,"Line_ID","L1","Operator_ID",A6)*H6+GETPIVOTDATA("Defects",$A$1,"Line_ID","L2","Operator_ID",A6)*I6+GETPIVOTDATA("Defects",$A$1,"Line_ID","L3","Operator_ID",A6)*J6 -> 52 | L6: =SUM(H6:J6) -> 1
A7: O05 | B7: 50 | C7: 116 | D7: 75 | E7: 241 | G7: O05 | H7: 1 | I7: 0 | J7: 0 | K7: =GETPIVOTDATA("Defects",$A$1,"Line_ID","L1","Operator_ID",A7)*H7+GETPIVOTDATA("Defects",$A$1,"Line_ID","L2","Operator_ID",A7)*I7+GETPIVOTDATA("Defects",$A$1,"Line_ID","L3","Operator_ID",A7)*J7 -> 50 | L7: =SUM(H7:J7) -> 1
A8: O06 | B8: 67 | C8: 23 | D8: 75 | E8: 165 | G8: O06 | H8: 0 | I8: 1 | J8: 0 | K8: =GETPIVOTDATA("Defects",$A$1,"Line_ID","L1","Operator_ID",A8)*H8+GETPIVOTDATA("Defects",$A$1,"Line_ID","L2","Operator_ID",A8)*I8+GETPIVOTDATA("Defects",$A$1,"Line_ID","L3","Operator_ID",A8)*J8 -> 23 | L8: =SUM(H8:J8) -> 1
A9: O07 | B9: 69 | C9: 60 | D9: 87 | E9: 216 | G9: O07 | H9: 0 | I9: 1 | J9: 0 | K9: =GETPIVOTDATA("Defects",$A$1,"Line_ID","L1","Operator_ID",A9)*H9+GETPIVOTDATA("Defects",$A$1,"Line_ID","L2","Operator_ID",A9)*I9+GETPIVOTDATA("Defects",$A$1,"Line_ID","L3","Operator_ID",A9)*J9 -> 60 | L9: =SUM(H9:J9) -> 1
A10: O08 | B10: 29 | C10: 49 | D10: 41 | E10: 119 | G10: O08 | H10: 1 | I10: 0 | J10: 0 | K10: =GETPIVOTDATA("Defects",$A$1,"Line_ID","L1","Operator_ID",A10)*H10+GETPIVOTDATA("Defects",$A$1,"Line_ID","L2","Operator_ID",A10)*I10+GETPIVOTDATA("Defects",$A$1,"Line_ID","L3","Operator_ID",A10)*J10 -> 29 | L10: =SUM(H10:J10) -> 1
A11: O09 | B11: 79 | C11: 111 | D11: 82 | E11: 272 | G11: O09 | H11: 1 | I11: 0 | J11: 0 | K11: =GETPIVOTDATA("Defects",$A$1,"Line_ID","L1","Operator_ID",A11)*H11+GETPIVOTDATA("Defects",$A$1,"Line_ID","L2","Operator_ID",A11)*I11+GETPIVOTDATA("Defects",$A$1,"Line_ID","L3","Operator_ID",A11)*J11 -> 79 | L11: =SUM(H11:J11) -> 1
A12: O10 | B12: 155 | C12: 83 | D12: 100 | E12: 338 | G12: O10 | H12: 0 | I12: 1 | J12: 0 | K12: =GETPIVOTDATA("Defects",$A$1,"Line_ID","L1","Operator_ID",A12)*H12+GETPIVOTDATA("Defects",$A$1,"Line_ID","L2","Operator_ID",A12)*I12+GETPIVOTDATA("Defects",$A$1,"Line_ID","L3","Operator_ID",A12)*J12 -> 83 | L12: =SUM(H12:J12) -> 1
A13: Grand Total | B13: 729 | C13: 794 | D13: 801 | E13: 2324 | G13: Total | H13: =SUM(H3:H12) -> 5 | I13: =SUM(I3:I12) -> 4 | J13: =SUM(J3:J12) -> 1 | K13: =SUM(K3:K12) -> 541 | L13: =SUM(L3:L12) -> 10
A15: The optimized assignment reduced the total number of defects to 541 by matching each operator to the line where they performed best historically.

Sheet Dashboard
A1: Production Process Analysis and Optimization Dashboard
A2: Industrial Engineering case study based on production, quality, downtime, efficiency, and optimization analysis
A4: Lowest Productivity Shift | C4: Highest Defect Rate Product | E4: Top Defect Operator | G4: Highest Downtime Line (min) | I4: Lowest Efficiency Line | K4: Optimized Total Defects | M4: Lowest Estimated OEE Line
A5: =INDEX(Shift_Analysis!A5:A7, MATCH(MIN(GETPIVOTDATA("Units_Produced",Shift_Analysis!$A$4,"Shift","Afternoon"),GETPIVOTDATA("Units_Produced",Shift_Analysis!$A$4,"Shift","Morning"),GETPIVOTDATA("Units_Produced",Shift_Analysis!$A$4,"Shift","Night")),Shift_Analysis!B5:B7,0)) -> Night | C5: =INDEX(Defect_Analysis!E4:E6, MATCH(MAX(Defect_Analysis!H4,Defect_Analysis!H5,Defect_Analysis!H6),Defect_Analysis!H4:H6,0)) -> Product C | E5: =INDEX(Defect_Analysis!A12:A21, MATCH(MAX(GETPIVOTDATA("Defects",Defect_Analysis!$A$11,"Operator_ID","O10"),GETPIVOTDATA("Defects",Defect_Analysis!$A$11,"Operator_ID","O01"),GETPIVOTDATA("Defects",Defect_Analysis!$A$11,"Operator_ID","O09"),GETPIVOTDATA("Defects",Defect_Analysis!$A$11,"Operator_ID","O05"),GETPIVOTDATA("Defects",Defect_Analysis!$A$11,"Operator_ID","O03"),GETPIVOTDATA("Defects",Defect_Analysis!$A$11,"Operator_ID","O02"),GETPIVOTDATA("Defects",Defect_Analysis!$A$11,"Operator_ID","O07"),GETPIVOTDATA("Defects",Defect_Analysis!$A$11,"Operator_ID","O04"),GETPIVOTDATA("Defects",Defect_Analysis!$A$11,"Operator_ID","O06"),GETPIVOTDATA("Defects",Defect_Analysis!$A$11,"Operator_ID","O08")),Defect_Analysis!B12:B21,0)) -> O10 | G5: =INDEX(Downtime_Analysis!D4:D6,MATCH(MAX(Downtime_Analysis!E4,Downtime_Analysis!E5,Downtime_Analysis!E6),Downtime_Analysis!E4:E6,0)) -> L1 | I5: =INDEX(Machine_Efficiency_Analysis!A4:A6,MATCH(MIN(GETPIVOTDATA("Machine_Efficiency (%)",Machine_Efficiency_Analysis!$A$3,"Line_ID","L1"),GETPIVOTDATA("Machine_Efficiency (%)",Machine_Efficiency_Analysis!$A$3,"Line_ID","L2"),GETPIVOTDATA("Machine_Efficiency (%)",Machine_Efficiency_Analysis!$A$3,"Line_ID","L3")),Machine_Efficiency_Analysis!B4:B6,0)) -> L3 | K5: =Solver_Operator!K13 -> 541 | M5: L3
A6: =MIN(GETPIVOTDATA("Units_Produced",Shift_Analysis!$A$4,"Shift","Afternoon"),GETPIVOTDATA("Units_Produced",Shift_Analysis!$A$4,"Shift","Morning"),GETPIVOTDATA("Units_Produced",Shift_Analysis!$A$4,"Shift","Night")) -> 346.62222 | C6: =MAX(Defect_Analysis!H4,Defect_Analysis!H5,Defect_Analysis!H6) -> 0.026075502 | E6: =MAX(GETPIVOTDATA("Defects",Defect_Analysis!$A$11,"Operator_ID","O10"),GETPIVOTDATA("Defects",Defect_Analysis!$A$11,"Operator_ID","O01"),GETPIVOTDATA("Defects",Defect_Analysis!$A$11,"Operator_ID","O09"),GETPIVOTDATA("Defects",Defect_Analysis!$A$11,"Operator_ID","O05"),GETPIVOTDATA("Defects",Defect_Analysis!$A$11,"Operator_ID","O03"),GETPIVOTDATA("Defects",Defect_Analysis!$A$11,"Operator_ID","O02"),GETPIVOTDATA("Defects",Defect_Analysis!$A$11,"Operator_ID","O07"),GETPIVOTDATA("Defects",Defect_Analysis!$A$11,"Operator_ID","O04"),GETPIVOTDATA("Defects",Defect_Analysis!$A$11,"Operator_ID","O06"),GETPIVOTDATA("Defects",Defect_Analysis!$A$11,"Operator_ID","O08")) -> 338 | G6: =MAX(Downtime_Analysis!E4,Downtime_Analysis!E5,Downtime_Analysis!E6) -> 2797 | I6: =MIN(GETPIVOTDATA("Machine_Efficiency (%)",Machine_Efficiency_Analysis!$A$3,"Line_ID","L1"),GETPIVOTDATA("Machine_Efficiency (%)",Machine_Efficiency_Analysis!$A$3,"Line_ID","L2"),GETPIVOTDATA("Machine_Efficiency (%)",Machine_Efficiency_Analysis!$A$3,"Line_ID","L3"))/100 -> 0.83482 | M6: 76.1
E35: Key Insights | J35: Operator Assignment Optimization
E36: Night had the lowest average production among the shifts. | J36: Objective: Minimize total defects.
E37: Line L1 recorded the highest total downtimeduring the study period. | J37: Binary assignment by line.
E38: Line L3 showed the lowest average machine efficiency. | J38: Final total defects: 541
E39: The optimized operator assignment reduced total defects to 541.
E40: Pareto analysis was used to identify the small number of contributors responsible for a large share of defects and downtime.
